BEGIN:VCALENDAR
PRODID:-//eluceo/ical//2.0/EN
VERSION:2.0
CALSCALE:GREGORIAN
BEGIN:VEVENT
UID:event-115
DTSTAMP:20260424T045743Z
SUMMARY:Lunchlezing Westlake Epoxy
DESCRIPTION:Op 24 september\, van 12.45 uur tot 13.45 uur\, verwelkomen wij
  Westlake Epoxy voor een lunchlezing! Westlake Epoxy is een van de uitvind
 ers van epoxytechnologie en een van de toonaangevende wereldwijde leveranc
 iers van epoxyharsen en systemen. Als pionier in de harsinfusietechnologie
  – het proces dat wordt gebruikt voor de vervaardiging van de huidige wi
 ndbladen – dragen hun epoxycomposietsysteem nog steeds bij aan het maken
  van bladen die groter\, lichter\, sterker\, duurzamer en kostenefficiënt
 er zijn. Meld je aan om meer te leren over Westlake Epoxy en hun R&amp\;D\
 , terwijl je geniet van een gratis lunch! on the 24th of september\, from 
 12.45h to 13.45h\, Westlake Epoxy is joining us for a lunchlecture!  West
 lake epoxy is one of the inventors of epoxy technology and one of today’
 s leading global suppliers of epoxy resins and systems. As a pioneer in re
 sin infusion technology – the process used to manufacture today’s wind
  blades\, their epoxy composite systems continue to help make blades bigge
 r\, lighter\, stronger\, more durable – and more cost efficient.  Sign 
 up to learn more about Westlake Epoxy and their R&amp\;D while you enjoy f
 ree lunch! 
DTSTART:20240924T104500Z
DTEND:20240924T114500Z
LOCATION:Gorlaeus BW.0.06
END:VEVENT
BEGIN:VTIMEZONE
TZID:UTC
BEGIN:STANDARD
DTSTART:20240924T104500
TZNAME:UTC
TZOFFSETTO:+0000
TZOFFSETFROM:+0000
END:STANDARD
END:VTIMEZONE
END:VCALENDAR
