BEGIN:VCALENDAR
PRODID:-//eluceo/ical//2.0/EN
VERSION:2.0
CALSCALE:GREGORIAN
BEGIN:VEVENT
UID:event-312
DTSTAMP:20260422T140457Z
SUMMARY:Sportdag
DESCRIPTION:Beste Eerstejaars\, We zien je graag vrijdag 1 mei in het Bos v
 an Bosman (Leiden) na je ANO college. Vergeet je sportkleding niet. Extra 
 spullen kan je in een kluisje laten op de Uni. Wie daag je uit om tegen te
  sporten op deze geweldige SportCie sportdag?  Stay Fit\, And Ascend⚽
 🪽
DTSTART:20260501T100000Z
DTEND:20260501T150000Z
LOCATION:Bos van Bosman
END:VEVENT
BEGIN:VTIMEZONE
TZID:UTC
BEGIN:STANDARD
DTSTART:20260501T100000
TZNAME:UTC
TZOFFSETTO:+0000
TZOFFSETFROM:+0000
END:STANDARD
END:VTIMEZONE
END:VCALENDAR
