BEGIN:VCALENDAR
PRODID:-//eluceo/ical//2.0/EN
VERSION:2.0
CALSCALE:GREGORIAN
BEGIN:VEVENT
UID:event-315
DTSTAMP:20260425T005257Z
SUMMARY:TraktaatCie Diner
DESCRIPTION:Beste CDL’ers\, Op 11 mei is het zover: het traktaatciediner!
  Voor maar €14\,- kun je genieten van een drie gangen diner inclusief dr
 ankjes\, en dat in het fantastische thema: Frozen!❄️🥶 Dus heb je zi
 n in een heerlijk diner? Kom dan op 11 mei naar scouting de Lodewijkgroep 
 op de Admiraal banckertweg 19a in Leiden. De inloop is vanaf 17.30 en het 
 diner start om 18.30. Dus schrijf je snel in met de volgende link:  Liefs
 \, Traktaatcie '26☃️
DTSTART:20260511T153000Z
DTEND:20260511T200000Z
LOCATION:Scouting Lodewijksgroep
END:VEVENT
BEGIN:VTIMEZONE
TZID:UTC
BEGIN:STANDARD
DTSTART:20260511T153000
TZNAME:UTC
TZOFFSETTO:+0000
TZOFFSETFROM:+0000
END:STANDARD
END:VTIMEZONE
END:VCALENDAR
