BEGIN:VCALENDAR
PRODID:-//eluceo/ical//2.0/EN
VERSION:2.0
CALSCALE:GREGORIAN
BEGIN:VEVENT
UID:event-61
DTSTAMP:20260421T065453Z
SUMMARY:IFF excursion
DESCRIPTION:Sign up! Join us on an excusrion to IFF on the 27th of March\, 
 from 12.45h until 16.30h! During the visit there will be a short presentat
 ion and a tour through their new building on Willem Einthovenstraat. We wi
 ll gather at the Huygens canteen at 12.45h. About IFF IFF Health and Biosc
 iences is a global leader in the industrial biotechnology sector which dev
 elops innovative bioprocesses and bioproducts to meet customer needs and r
 educe overall environmental impact.They leverage their cutting-edge engine
 ering and production expertise with worldwide\, multi-industry manufacturi
 ng capability to develop sustainable solutions for the emerging biobased e
 conomy. At the recently opened IFF Health &amp\; Biosciences Leiden site\,
  their R&amp\;D team develops microbial production strains (bacteria\, yea
 st and filamentous fungi) and engineers enzymes for applications in the ar
 eas of food &amp\; beverages\, biofuels\, home &amp\; personal care\, anim
 al feed\, paper &amp\; textile processing\, and more.
DTSTART:20240327T120000Z
DTEND:20240327T153000Z
END:VEVENT
BEGIN:VTIMEZONE
TZID:UTC
BEGIN:STANDARD
DTSTART:20240327T120000
TZNAME:UTC
TZOFFSETTO:+0000
TZOFFSETFROM:+0000
END:STANDARD
END:VTIMEZONE
END:VCALENDAR
